BEGIN:VCALENDAR
VERSION:2.0
PRODID:icalendar-ruby
CALSCALE:GREGORIAN
METHOD:PUBLISH
BEGIN:VTIMEZONE
TZID:Europe/London
BEGIN:DAYLIGHT
DTSTART:20260329T020000
TZOFFSETFROM:+0000
TZOFFSETTO:+0100
RRULE:FREQ=YEARLY;BYDAY=-1SU;BYMONTH=3
TZNAME:BST
END:DAYLIGHT
BEGIN:STANDARD
DTSTART:20261025T010000
TZOFFSETFROM:+0100
TZOFFSETTO:+0000
RRULE:FREQ=YEARLY;BYDAY=-1SU;BYMONTH=10
TZNAME:GMT
END:STANDARD
END:VTIMEZONE
BEGIN:VEVENT
DTSTAMP:20260422T225720Z
UID:1113141
DTSTART;TZID=Europe/London:20260425T163000
DTEND;TZID=Europe/London:20260426T003000
LOCATION:Epsom Downs Racecourse- Oaks Arena
SEQUENCE:1776856341
SUMMARY:QUEST BOXING LEAGUE - MAKE OR BREAK/QUEST KNOCKOUT TOURNAMENT
END:VEVENT
END:VCALENDAR
